BEGIN:VCALENDAR
VERSION:2.0
PRODID:-//Stadtteilzentrum Lichtenberg - Nord - ECPv6.15.20//NONSGML v1.0//EN
CALSCALE:GREGORIAN
METHOD:PUBLISH
X-ORIGINAL-URL:https://stz-lichtenbergnord.de
X-WR-CALDESC:Veranstaltungen für Stadtteilzentrum Lichtenberg - Nord
REFRESH-INTERVAL;VALUE=DURATION:PT1H
X-Robots-Tag:noindex
X-PUBLISHED-TTL:PT1H
BEGIN:VTIMEZONE
TZID:Europe/Berlin
BEGIN:DAYLIGHT
TZOFFSETFROM:+0100
TZOFFSETTO:+0200
TZNAME:CEST
DTSTART:20240331T010000
END:DAYLIGHT
BEGIN:STANDARD
TZOFFSETFROM:+0200
TZOFFSETTO:+0100
TZNAME:CET
DTSTART:20241027T010000
END:STANDARD
BEGIN:DAYLIGHT
TZOFFSETFROM:+0100
TZOFFSETTO:+0200
TZNAME:CEST
DTSTART:20250330T010000
END:DAYLIGHT
BEGIN:STANDARD
TZOFFSETFROM:+0200
TZOFFSETTO:+0100
TZNAME:CET
DTSTART:20251026T010000
END:STANDARD
BEGIN:DAYLIGHT
TZOFFSETFROM:+0100
TZOFFSETTO:+0200
TZNAME:CEST
DTSTART:20260329T010000
END:DAYLIGHT
BEGIN:STANDARD
TZOFFSETFROM:+0200
TZOFFSETTO:+0100
TZNAME:CET
DTSTART:20261025T010000
END:STANDARD
END:VTIMEZONE
BEGIN:VEVENT
DTSTART;TZID=Europe/Berlin:20250331T080000
DTEND;TZID=Europe/Berlin:20251219T120000
DTSTAMP:20260419T151956
CREATED:20250331T121010Z
LAST-MODIFIED:20250331T132944Z
UID:48116-1743408000-1766145600@stz-lichtenbergnord.de
SUMMARY:Naturerleben im Landschaftspark Herzberge
DESCRIPTION:Im Landschaftspark Herzberge\, in dem seit 2018 große Teile als Landschaftsschutzgebiet ausgewiesen wurden\, erleben Sie auf rund 100 ha\, rund um das Evangelische Krankenhaus Königin Elisabeth Herzberge Schafweiden\, Obstwiesen und naturnahe Lebensräume mit einer vielfältigen Fauna und Flora – hier gehen Naherholung\, landwirtschaftliche Nutzung und Naturschutz Hand in Hand. Wo noch bis Anfang des Jahrtausends brachliegende Industrieflächen waren\, sind Teiche und Pfuhle entstanden\, in denen Amphibien sowie im gesamten Gebiet Zauneidechsen anzutreffen sind. Bei Kindern besonders beliebt sind die Rauhwolligen Pommerschen Landschafe\, die die Weiden reihum abgrasen.\nIm Landschaftspark Herzberge bieten Natur- und Umweltpädagog*innen Naturerlebnisveranstaltungen und Führungen für Gruppen (Kitas\, Schulen und Erwachsene) sowie interessierte Einzelpersonen an\, bei denen Tiere und Pflanzen erlebt und ökologische Zusammenhänge entdeckt werden können. \nNehmen Sie für die reservierung mit einer Gruppe gerne Kontakt mit uns auf: Fr. Wackwitz\, Te. 017610536026\, wackwitz@agrar-boerse-ev.de
URL:https://stz-lichtenbergnord.de/veranstaltung/naturerleben-im-landschaftspark-herzberge/
LOCATION:Landschaftspark Herzberge\, Allee der Kosmonauten 16\, Berlin\, 10315\, Germany
CATEGORIES:Exkursion & Wanderung
END:VEVENT
BEGIN:VEVENT
DTSTART;TZID=Europe/Berlin:20250924T170000
DTEND;TZID=Europe/Berlin:20251031T180000
DTSTAMP:20260419T151956
CREATED:20250924T093817Z
LAST-MODIFIED:20250924T093817Z
UID:50794-1758733200-1761933600@stz-lichtenbergnord.de
SUMMARY:Rhythmus und Aufbruch – Kunst im Bild der DDR
DESCRIPTION:Rhythmus und Aufbruch – Kunst im Bild der DDR \nDiese Ausstellung führt mitten hinein in die Welt der Künstlerinnen und Künstler der DDR\, zwischen Bühne\, Publikum und Staat. Sie zeigt Fotografien\, die mehr sind als Dokumente: Sie erzählen von Glanz und Widerspruch\, von Freude und Enge\, von individueller Freiheit im Spannungsfeld einer politischen Ordnung\, die Kunst zugleich förderte\, kontrollierte und für ihre Zwecke instrumentalisierte. Im Zentrum steht das Werk von Maja Lopatta\, geboren 1928 in Breslau. Sie war lange Chefredakteurin der „Unterhaltungskunst – Zeitschrift für Bühne\, Podium und Manege“. \nAls Journalistin\, Fotografin und Chronistin erlebte sie den DDR-Kulturbetrieb aus nächster Nähe. Ihre Bilder zeigen Stars wie Ute Freudenberg\, Reinhard Lakomy oder Jiri Korn und Bands wie Karussel\, Puhdys\, City und Karat. Doch ihre Fotografien sind mehr als Porträts von Berühmtheiten: Sie lassen die Atmosphäre einer Epoche sichtbar werden\, die voller Kontraste war. Zwischen beschwingter Leichtigkeit\, Auftrittsglanz und subversiven Zwischentönen schimmert immer auch eine stille Form von Widerstand: das Beharren auf künstlerischer Ausdruckskraft und persönlicher Haltung. \nLopatta selbst verkörperte diesen Geist. Sie schrieb und fotografierte nicht\, um sich im Glanz anderer zu spiegeln\, sondern um die Kraft der Kunst einzufangen. In ihrer kürzlich erschienen Autobiografie „Das Leben ist ein Geschenk“ tritt sie nicht als Gefährtin berühmter Namen auf\, sondern als eigenständige\, lebensfrohe Persönlichkeit. \nErgänzt werden Loppatas Fotografien durch Werke von Volkhard Kühl und Marion Klemp. Kühl fotografierte mit dokumentarischem Blick das Alltagsleben im Osten Berlins\, doch seine Leidenschaft galt dem Jazz\, der schon in seiner Idee die Freiheit verkörpert. Marion Klemp wiederum bietet mit ihrem Archiv einen vielschichtigen Blick auf die DDR-Alltagskultur\, vom Deutschen Schauspielhaus bis zur Begleitung von Herman van Veen bei einer seiner Tourneen durch die DDR. Gemeinsam eröffnen ihre Arbeiten neue Perspektiven: Sie zeigen die Vielfalt künstlerischer Ausdrucksformen\, die im DDR-Alltag Platz fanden und zugleich immer unter der Beobachtung eines Staates standen\, der auch über die Kultur seine Kontrolle ausübte. Gerade in diesem Spannungsfeld wird Fotografie zum doppelten Zeugnis: als Bild künstlerischer Bewegung und als stilles Dokument einer politischen Wirklichkeit. \nVernissage: Mittwoch\, 24. September 2025\, 17:00 Uhr\nÖffnungszeiten täglich 10:00–18:00 Uhr\nLaufzeit bis 31. Oktober 2025 \nDer Zugang zu „Haus 22“ ist nicht barriefrei.
URL:https://stz-lichtenbergnord.de/veranstaltung/rhythmus-und-aufbruch-kunst-im-bild-der-ddr/
LOCATION:Stasi-Zentrale\, Campus für Demokratie\, „Haus 22“\, Ruschestraße 103\, Berlin\, 10367
CATEGORIES:Kunst & Kultur
ATTACH;FMTTYPE=image/jpeg:https://stz-lichtenbergnord.de/wp-content/uploads/2025/09/250924_Vernissage_DDR_Fotoerbe_Haus22_Electra_ohne-Datum-scaled.jpg
ORGANIZER;CN="Bundesarchiv - Stasi-Unterlagen-Archiv":MAILTO:besuch.stasiunterlagenarchiv@bundesarchiv.de
END:VEVENT
BEGIN:VEVENT
DTSTART;TZID=Europe/Berlin:20251011T110000
DTEND;TZID=Europe/Berlin:20251011T123000
DTSTAMP:20260419T151956
CREATED:20250925T095218Z
LAST-MODIFIED:20250925T095218Z
UID:50865-1760180400-1760185800@stz-lichtenbergnord.de
SUMMARY:Einblick ins Geheime Wochenend-Führung zum Stasi-Unterlagen-Archiv am historischen Ort
DESCRIPTION:Anmeldung über einblick-ins-geheime@bundesarchiv.de oder Tel. 030 18665-6770 \n40 Jahre lang sicherte die Stasi die Herrschaft der Staatspartei SED. In ihrem „Kampf gegen den Feind“ dehnte sich das Ministerium für Staatssicherheit immer weiter aus – in Lichtenberg und der gesamten DDR. Mutige Bürgerinnen und Bürger sicherten 1990 hier die Unterlagen der Geheimpolizei nicht nur vor der Vernichtung\, sie machten Mielkes Hauptquartier wieder zum öffentlichen Raum. Heute befindet sich hier das Stasi-Unterlagen-Archiv und klärt über das Wirken der Stasi und deren Unterlagen auf. \n„Ein Monument der Überwachung“: Im Stasi-Unterlagen-Archiv lagern 111 Kilometer Akten\, in denen vielfach persönliche Daten über Menschen gespeichert sind – gesammelt vom Staat. Die Ausstellung „Einblick ins Geheime“ macht die Bedeutung dieses Archivs begreifbar. \nNach der Führung haben Sie die Möglichkeit\, unsere Beispielakten-Sammlung zu besuchen. Sie besteht aus Reproduktionen originaler Stasi-Unterlagen. Neben Sachakten und Personalunterlagen von Stasi-Offizieren finden sich hier auch Akten von Betroffenen. Diese haben der Veröffentlichung ihrer Unterlagen zugestimmt und machen einen „Einblick ins Geheime“ möglich.
URL:https://stz-lichtenbergnord.de/veranstaltung/einblick-ins-geheime-wochenend-fuehrung-zum-stasi-unterlagen-archiv-am-historischen-ort-3/
LOCATION:Stasi-Zentrale – Campus für Demokratie – „Haus 7“\, Normannenstr. 21 a\, Berlin - Lichtenberg\, Berlin\, 10365\, Deutschland
CATEGORIES:Exkursion & Wanderung,Stasi
ATTACH;FMTTYPE=image/jpeg:https://stz-lichtenbergnord.de/wp-content/uploads/2025/09/stasi-zentrale.jpg
ORGANIZER;CN="Bundesarchiv - Stasi-Unterlagen-Archiv":MAILTO:besuch.stasiunterlagenarchiv@bundesarchiv.de
END:VEVENT
BEGIN:VEVENT
DTSTART;TZID=Europe/Berlin:20251015T170000
DTEND;TZID=Europe/Berlin:20251015T180000
DTSTAMP:20260419T151956
CREATED:20250924T095107Z
LAST-MODIFIED:20250924T095107Z
UID:50822-1760547600-1760551200@stz-lichtenbergnord.de
SUMMARY:Secret after 5 – After-work tour of the Stasi Records Archive exhibition “Insight into the Secret”
DESCRIPTION:For 40 years\, the Stasi secured the rule of the ruling SED party. In its “fight against the enemy\,” the Ministry for State Security expanded further and further\, in Lichtenberg and throughout the GDR. In 1990\, courageous citizens not only saved the secret police’s files from destruction\, they also turned Mielke’s headquarters back into a public space. Today\, the Stasi Records Archive is located here in the Federal Archives and provides information about the work of the Stasi and its records.\n“A monument to surveillance”: The Stasi Records Archive stores 111 kilometers of files\, many of which contain personal data about individuals collected by the State Security Service. The exhibition “Einblick ins Geheime” (Insight into the Secret) makes the significance of this archive tangible.\nAfter the tour\, you will have the opportunity to visit our sample file collection. It consists of reproductions of original Stasi documents. In addition to case files and personnel files of Stasi officers\, there are also files of those affected. They have consented to the publication of their documents and make an “insight into the secret” possible. \nRegistration via einblick-ins-geheime@bundesarchiv.de or tel. 030 18 665-6699 \nThe meeting point for the tour is in the Stasi Records Archive\, Building 7\, on the grounds of the former Stasi headquarters.
URL:https://stz-lichtenbergnord.de/veranstaltung/secret-after-5-after-work-tour-of-the-stasi-records-archive-exhibition-insight-into-the-secret/
LOCATION:Stasi-Zentrale – Campus für Demokratie – „Haus 7“\, Normannenstr. 21 a\, Berlin - Lichtenberg\, Berlin\, 10365\, Deutschland
CATEGORIES:Senioren,Stasi
ATTACH;FMTTYPE=image/jpeg:https://stz-lichtenbergnord.de/wp-content/uploads/2025/09/GeheimNach5.MfS_BdL_Fo_Nr-0082_Bild-0300_9964F2A9AC364E17B564E9176E9CC7B0-1.jpg
ORGANIZER;CN="Bundesarchiv - Stasi-Unterlagen-Archiv":MAILTO:besuch.stasiunterlagenarchiv@bundesarchiv.de
END:VEVENT
BEGIN:VEVENT
DTSTART;TZID=Europe/Berlin:20251021T183000
DTEND;TZID=Europe/Berlin:20251021T200000
DTSTAMP:20260419T151956
CREATED:20251103T102634Z
LAST-MODIFIED:20251103T102634Z
UID:50978-1761071400-1761076800@stz-lichtenbergnord.de
SUMMARY:Grit und Niklas Poppe: Verschleppt\, verbannt\, verschwunden
DESCRIPTION:Grit und Niklas Poppe erzählen die Schicksale Jugendlicher und junger Erwachsener nach\, die nach dem Zweiten Weltkrieg in die Fänge des sowjetischen Geheimdienstes gerieten\, verhaftet und verschleppt wurden – oft ohne dass ihre Angehörigen damals etwas von ihrem Schicksal erfuhren. Es sind die Leidensgeschichten und Hafterfahrungen Betroffener aus der SBZ und der DDR\, die oft unschuldig mehrere Jahre in einem der Speziallager oder im Gulag verbrachten. Nicht wenige mussten ihr Leben lassen. \n\nQuelle der Porträts sind vor allem Interviews mit Zeitzeugen und Zeitzeuginnen\, die bisher unveröffentlicht sind. Im Mittelpunkt des Buches stehen dadurch die Betroffenen selbst. Ihre Erinnerungen werden so wiedergegeben\, dass sie für die Leser und Leserinnen emotional nachvollziehbar sind und deutlich wird\, wie schwer und nachhaltig Menschenwürde und Menschenrechte verletzt wurden. \n  \nDie Buchvorstellung findet im Rahmen der Veranstaltungsreihe Lesebühne statt. \nDie Veranstaltung wird in Kooperation mit dem Bundesarchiv – Stasi-Unterlagen-Archiv und dem Bürgerkomitee 15. Januar durchgeführt.
URL:https://stz-lichtenbergnord.de/veranstaltung/grit-und-niklas-poppe-verschleppt-verbannt-verschwunden/
LOCATION:Stasi-Zentrale\, Campus für Demokratie\, „Haus 22“\, Ruschestraße 103\, Berlin\, 10367
CATEGORIES:Kunst & Kultur,Stasi
ATTACH;FMTTYPE=image/jpeg:https://stz-lichtenbergnord.de/wp-content/uploads/2025/10/cover-verschleppt-verbannt-verschwunden-poppe-mdv.jpg
END:VEVENT
BEGIN:VEVENT
DTSTART;TZID=Europe/Berlin:20251011T110000
DTEND;TZID=Europe/Berlin:20251011T123000
DTSTAMP:20260419T151956
CREATED:20250925T095218Z
LAST-MODIFIED:20250925T095218Z
UID:50865-1760180400-1760185800@stz-lichtenbergnord.de
SUMMARY:Einblick ins Geheime Wochenend-Führung zum Stasi-Unterlagen-Archiv am historischen Ort
DESCRIPTION:Anmeldung über einblick-ins-geheime@bundesarchiv.de oder Tel. 030 18665-6770 \n40 Jahre lang sicherte die Stasi die Herrschaft der Staatspartei SED. In ihrem „Kampf gegen den Feind“ dehnte sich das Ministerium für Staatssicherheit immer weiter aus – in Lichtenberg und der gesamten DDR. Mutige Bürgerinnen und Bürger sicherten 1990 hier die Unterlagen der Geheimpolizei nicht nur vor der Vernichtung\, sie machten Mielkes Hauptquartier wieder zum öffentlichen Raum. Heute befindet sich hier das Stasi-Unterlagen-Archiv und klärt über das Wirken der Stasi und deren Unterlagen auf. \n„Ein Monument der Überwachung“: Im Stasi-Unterlagen-Archiv lagern 111 Kilometer Akten\, in denen vielfach persönliche Daten über Menschen gespeichert sind – gesammelt vom Staat. Die Ausstellung „Einblick ins Geheime“ macht die Bedeutung dieses Archivs begreifbar. \nNach der Führung haben Sie die Möglichkeit\, unsere Beispielakten-Sammlung zu besuchen. Sie besteht aus Reproduktionen originaler Stasi-Unterlagen. Neben Sachakten und Personalunterlagen von Stasi-Offizieren finden sich hier auch Akten von Betroffenen. Diese haben der Veröffentlichung ihrer Unterlagen zugestimmt und machen einen „Einblick ins Geheime“ möglich.
URL:https://stz-lichtenbergnord.de/veranstaltung/einblick-ins-geheime-wochenend-fuehrung-zum-stasi-unterlagen-archiv-am-historischen-ort-3/
LOCATION:Stasi-Zentrale – Campus für Demokratie – „Haus 7“\, Normannenstr. 21 a\, Berlin - Lichtenberg\, Berlin\, 10365\, Deutschland
CATEGORIES:Exkursion & Wanderung,Stasi
ATTACH;FMTTYPE=image/jpeg:https://stz-lichtenbergnord.de/wp-content/uploads/2025/09/stasi-zentrale.jpg
ORGANIZER;CN="Bundesarchiv - Stasi-Unterlagen-Archiv":MAILTO:besuch.stasiunterlagenarchiv@bundesarchiv.de
END:VEVENT
END:VCALENDAR